BEGIN:VCALENDAR
VERSION:2.0
PRODID:icalendar-ruby
CALSCALE:GREGORIAN
METHOD:PUBLISH
BEGIN:VEVENT
DTSTAMP:20260424T024540Z
UID:18-555652@millmontgmc.com
DTSTART:20260920T140000Z
DTEND:20260920T144000Z
CLASS:PUBLIC
CREATED:20260423T200055
DESCRIPTION:
LAST-MODIFIED:20260423T200055
LOCATION:
SUMMARY:Sunday School
URL;VALUE=URI:https://millmontgmc.com/events/sunday-school/2026-09-20
ATTACH;FILENAME=20260322_102443.jpg;FMTTYPE=image/jpeg:https://dq5pwpg1q8ru
 0.cloudfront.net/2026/03/22/21/09/06/3600a037-a3ab-41df-882b-99193e732396/
 20260322_102443.jpg
END:VEVENT
END:VCALENDAR
