BEGIN:VCALENDAR
VERSION:2.0
PRODID:icalendar-ruby
CALSCALE:GREGORIAN
METHOD:PUBLISH
BEGIN:VEVENT
DTSTAMP:20260423T105105Z
UID:7-553014@millmontgmc.com
DTSTART:20261101T230000Z
DTEND:20261102T000000Z
CLASS:PUBLIC
CREATED:20260422T225318
DESCRIPTION:
LAST-MODIFIED:20260422T225318
LOCATION:Millmont Church
SUMMARY:Sunday Evening Worship
URL;VALUE=URI:https://millmontgmc.com/events/sunday-evening-worship/2026-11
 -01
END:VEVENT
END:VCALENDAR
