BEGIN:VCALENDAR
VERSION:2.0
PRODID:icalendar-ruby
CALSCALE:GREGORIAN
METHOD:PUBLISH
BEGIN:VEVENT
DTSTAMP:20260423T080210Z
UID:7-553012@millmontgmc.com
DTSTART:20261018T220000Z
DTEND:20261018T230000Z
CLASS:PUBLIC
CREATED:20260422T225318
DESCRIPTION:
LAST-MODIFIED:20260422T225318
LOCATION:Millmont Church
SUMMARY:Sunday Evening Worship
URL;VALUE=URI:https://millmontgmc.com/events/sunday-evening-worship/2026-10
 -18
END:VEVENT
END:VCALENDAR
