BEGIN:VCALENDAR
VERSION:2.0
PRODID:icalendar-ruby
CALSCALE:GREGORIAN
METHOD:PUBLISH
BEGIN:VEVENT
DTSTAMP:20260423T030848Z
UID:7-553009@millmontgmc.com
DTSTART:20260927T220000Z
DTEND:20260927T230000Z
CLASS:PUBLIC
CREATED:20260422T225318
DESCRIPTION:
LAST-MODIFIED:20260422T225318
LOCATION:Millmont Church
SUMMARY:Sunday Evening Worship
URL;VALUE=URI:https://millmontgmc.com/events/sunday-evening-worship/2026-09
 -27
END:VEVENT
END:VCALENDAR
