BEGIN:VCALENDAR
VERSION:2.0
PRODID:icalendar-ruby
CALSCALE:GREGORIAN
METHOD:PUBLISH
BEGIN:VEVENT
DTSTAMP:20260423T012509Z
UID:7-552536@millmontgmc.com
DTSTART:20260920T220000Z
DTEND:20260920T230000Z
CLASS:PUBLIC
CREATED:20260422T195912
DESCRIPTION:
LAST-MODIFIED:20260422T195912
LOCATION:Millmont Church
SUMMARY:Sunday Evening Worship
URL;VALUE=URI:https://millmontgmc.com/events/sunday-evening-worship/2026-09
 -20
END:VEVENT
END:VCALENDAR
