BEGIN:VCALENDAR
VERSION:2.0
PRODID:icalendar-ruby
CALSCALE:GREGORIAN
METHOD:PUBLISH
BEGIN:VEVENT
DTSTAMP:20260422T232410Z
UID:7-552063@millmontgmc.com
DTSTART:20260913T220000Z
DTEND:20260913T230000Z
CLASS:PUBLIC
CREATED:20260422T170729
DESCRIPTION:
LAST-MODIFIED:20260422T170729
LOCATION:Millmont Church
SUMMARY:Sunday Evening Worship
URL;VALUE=URI:https://millmontgmc.com/events/sunday-evening-worship/2026-09
 -13
END:VEVENT
END:VCALENDAR
