BEGIN:VCALENDAR
VERSION:2.0
PRODID:icalendar-ruby
CALSCALE:GREGORIAN
METHOD:PUBLISH
BEGIN:VEVENT
DTSTAMP:20260422T163737Z
UID:7-551115@millmontgmc.com
DTSTART:20260816T220000Z
DTEND:20260816T230000Z
CLASS:PUBLIC
CREATED:20260422T111726
DESCRIPTION:
LAST-MODIFIED:20260422T111726
LOCATION:Millmont Church
SUMMARY:Sunday Evening Worship
URL;VALUE=URI:https://millmontgmc.com/events/sunday-evening-worship/2026-08
 -16
END:VEVENT
END:VCALENDAR
